BEGIN:VCALENDAR
VERSION:2.0
PRODID:icalendar-ruby
CALSCALE:GREGORIAN
METHOD:PUBLISH
BEGIN:VEVENT
DTSTAMP:20260421T091859Z
UID:5-1559451@revolutionchurchwi.com
DTSTART:20261101T170000Z
DTEND:20261101T180000Z
CLASS:PUBLIC
CREATED:20260420T201000
DESCRIPTION:Sunday Worship
LAST-MODIFIED:20260420T201000
LOCATION:
SUMMARY:Sunday Worship
URL;VALUE=URI:https://www.revolutionchurchwi.com/events/sunday-worship/2026
 -11-01
END:VEVENT
END:VCALENDAR
