BEGIN:VCALENDAR
VERSION:2.0
PRODID:icalendar-ruby
CALSCALE:GREGORIAN
METHOD:PUBLISH
BEGIN:VEVENT
DTSTAMP:20260420T023848Z
UID:91-1534736@revolutionchurchwi.com
DTSTART:20260426T150000Z
DTEND:20260426T170000Z
CLASS:PUBLIC
CREATED:20260414T142318
DESCRIPTION:Besure to come to church to find out what is going on in the mi
 ssion field.
LAST-MODIFIED:20260414T142318
LOCATION:Revolution Church 407 Factory Street Plymouth WI 
SUMMARY:Mission Sunday
URL;VALUE=URI:https://www.revolutionchurchwi.com/events/mission-sunday/2026
 -04-26
ATTACH;FILENAME=No-Streaming-Mission-Sunday.jpg;FMTTYPE=image/jpeg:https://
 dq5pwpg1q8ru0.cloudfront.net/2026/04/14/19/23/17/70b01d4f-a395-4df6-a01d-e
 74728b86e5d/No-Streaming-Mission-Sunday.jpg
END:VEVENT
END:VCALENDAR
