BEGIN:VCALENDAR
VERSION:2.0
PRODID:icalendar-ruby
CALSCALE:GREGORIAN
METHOD:PUBLISH
BEGIN:VEVENT
DTSTAMP:20260420T162022Z
UID:61-1487877@revolutionchurchwi.com
DTSTART:20260628T230000Z
DTEND:20260629T010000Z
CLASS:PUBLIC
CREATED:20260401T161643
DESCRIPTION:Game night is a great time to meet people from church.  It's a
  safe zone to bring the whole family and sit back\, relax and have some fu
 n.  Bring your favorite game to share and to teach others how to play.  
 Friends are always welcome to come along with you.   Bring a snack to sh
 are with the group.  Come prepared to enjoy!
LAST-MODIFIED:20260401T161643
LOCATION:Revolution Church 407 Factory Street Plymouth WI
SUMMARY:Game Night
URL;VALUE=URI:https://www.revolutionchurchwi.com/events/game-night--61/2026
 -06-28
ATTACH;FILENAME=Game-Night-April-26.jpg;FMTTYPE=image/jpeg:https://dq5pwpg1
 q8ru0.cloudfront.net/2026/04/01/21/16/43/5e094c84-879d-49bb-ba9b-6f4f64ca7
 4bd/Game-Night-April-26.jpg
END:VEVENT
END:VCALENDAR
