BEGIN:VCALENDAR
VERSION:2.0
PRODID:icalendar-ruby
CALSCALE:GREGORIAN
METHOD:PUBLISH
BEGIN:VEVENT
DTSTAMP:20260423T140709Z
UID:88-1509358@revolutionchurchwi.com
DTSTART:20260503T165500Z
DTEND:20260503T175000Z
CLASS:PUBLIC
CREATED:20260407T173109
DESCRIPTION:Sunday May 3 directly following the service we are having a man
 datory safety training for those volunteers serving all children's ministr
 ies.  A light lunch will be provided.  Please RSVP one way or another.
LAST-MODIFIED:20260407T173109
LOCATION:Revolution Church 407 Factory Street Plymouth WI 
SUMMARY:Early Childhood Volunteer Meeting
URL;VALUE=URI:https://www.revolutionchurchwi.com/events/early-childhood-vol
 unteer-meeting--88/2026-05-03
ATTACH;FILENAME=MANDATORY-SAFETY-TRAINING-5-3-26.jpg;FMTTYPE=image/jpeg:htt
 ps://dq5pwpg1q8ru0.cloudfront.net/2026/04/07/22/31/08/c37694aa-0d1f-4a5e-8
 42a-ac048f17983c/MANDATORY-SAFETY-TRAINING-5-3-26.jpg
END:VEVENT
END:VCALENDAR
